BEGIN:VCALENDAR
METHOD:PUBLISH
VERSION:2.0
CALSCALE:GREGORIAN
PRODID:-//NONSGML WPForms//NONSGML Sugar Calendar Feeds v3.11.0//EN
X-WR-CALNAME:Zwischen Trauma und Heimat â€“ zur Situation der Jesiden un
 d Jesidinnen in Pforzheim und im Irak
X-WR-CALDESC:#zusammenhalten Pforzheim
X-WR-TIMEZONE:Europe/Berlin
BEGIN:VTIMEZONE
TZID:Europe/Berlin
BEGIN:STANDARD
TZOFFSETFROM:+0200
TZOFFSETTO:+0100
DTSTART:20251026T010000
TZNAME:CET
END:STANDARD
END:VTIMEZONE
BEGIN:VTIMEZONE
TZID:Europe/Berlin
BEGIN:STANDARD
TZOFFSETFROM:+0200
TZOFFSETTO:+0100
DTSTART:20251026T010000
TZNAME:CET
END:STANDARD
END:VTIMEZONE
BEGIN:VEVENT
SUMMARY:Zwischen Trauma und Heimat â€“ zur Situation der Jesiden und Jes
 idinnen in Pforzheim und im Irak
DESCRIPTION:Die belastende Situation von Jesiden und Jesidinnen in Pforz
 heim und in Baden-WÃ¼rttemberg und zugleich die bedrohliche Situation fÃ
 ¼r Jesiden und Jesidinnen heute im Irak ist Anlass fÃ¼r ein GesprÃ¤ch mi
 t Expertinnen und Experten\, die uns Einblick Ã¼ber die aktuelle Situati
 on geben kÃ¶nnen. Was bedeutet dies fÃ¼r die Menschen\, die gerade auch 
 in Pforzheim das Zusammenleben gestalten\, sich hier aktiv einbringen un
 d sich integrieren? Was kÃ¶nnen wir tun\, um sie zu unterstÃ¼tzen? Was k
 ann politisch bewirkt werden? Vor dem Hintergrund\, dass zurzeit ein Ges
 etzesentwurf im Bundestag diskutiert wird\, haben diese Fragen eine beso
 ndere Brisanz. DarÃ¼ber und vieles mehr mÃ¶chten wir mit Ihnen ins Gespr
 Ã¤ch kommen.\n\nAls Expertinnen und Experten wirken mit: Dr. Michael Blu
 me\, Beauftragter der Landesregierung gegen Antisemitismus und fÃ¼r jÃ¼d
 isches Leben sowie ehemaliger Leiter der Projektgruppe â€žSonderkontinge
 nt fÃ¼r besonders schutzbedÃ¼rftige Frauen und Kinder aus dem Nordirak"\
 , die StaatssekretÃ¤rin und Bundestagsabgeordnete Katja Mast und die Lan
 dtagsabgeordnete Stefanie Seemann. Eingeladen ist auÃŸerdem Professor Dr
 . Dr. Jan Ilhan Kizilhan von der Dualen Hochschule Baden-WÃ¼rttemberg (D
 HBW)\, der sich in der psychologischen Betreuung traumatisierter jesidis
 cher Ãœberlebender engagiert.\n\nAnmeldung wird erbeten unter diesemÂ Li
 nk
URL;VALUE=URI:https://www.zusammenhalten-pforzheim.de/events/zwischen-tr
 auma-und-heimat-zur-situation-der-jesiden-und-jesidinnen-in-pforzheim-un
 d-im-irak/
UID:urn:uuid:4c29ac07-0c65-42a5-a747-e5c059bb7171
STATUS:CONFIRMED
ORGANIZER:
DTSTAMP:20260419T200520Z
DTSTART;TZID=Europe/Berlin:20260119T150000
DTEND;TZID=Europe/Berlin:20260119T163000
LOCATION:FrankstraÃŸe 43
END:VEVENT
END:VCALENDAR