BEGIN:VCALENDAR
METHOD:PUBLISH
VERSION:2.0
CALSCALE:GREGORIAN
PRODID:-//NONSGML WPForms//NONSGML Sugar Calendar Feeds v3.11.0//EN
X-WR-CALNAME:Workshop: Umgang mit rechten Parolen
X-WR-CALDESC:#zusammenhalten Pforzheim
X-WR-TIMEZONE:Europe/Berlin
BEGIN:VTIMEZONE
TZID:Europe/Berlin
BEGIN:DAYLIGHT
TZOFFSETFROM:+0100
TZOFFSETTO:+0200
DTSTART:20250330T010000
TZNAME:CEST
END:DAYLIGHT
END:VTIMEZONE
BEGIN:VTIMEZONE
TZID:Europe/Berlin
BEGIN:DAYLIGHT
TZOFFSETFROM:+0100
TZOFFSETTO:+0200
DTSTART:20250330T010000
TZNAME:CEST
END:DAYLIGHT
END:VTIMEZONE
BEGIN:VEVENT
SUMMARY:Workshop: Umgang mit rechten Parolen
DESCRIPTION:Auf der Familienfeier\, im Büro oder im Alltag - populistis
 che Sprüche und rechte Parolen begegnen uns überall und immer häufige
 r. Sie möchten gerne argumentieren\, reagieren\, dagegenhalten\, diskut
 ieren? – aber wie? In unserem Workshop lernen wir verschiedene Handlun
 gsstrategien und Ansätze kennen. Begleitet von zwei Moderator:innen und
  in einem geschützten Rahmen\, sind Sie eingeladen\, sich in praktische
 n Rollenspielen zu erproben. Teilnehmerzahl begrenzt auf 20.\n\nWir bitt
 en um Anmeldung bis zum 16.9. unter kdfb@diakonie-pf.de\nIn Kooperation
  mit der Evangelischen Erwachsenenbildung Pforzheim\n\nZum Programm der 
 Interkulturellen Woche
URL;VALUE=URI:https://www.zusammenhalten-pforzheim.de/events/workshop-um
 gang-mit-rechten-parolen-22-9-2025/
UID:urn:uuid:c38df051-76b8-484f-a307-ae6d0818dd30
STATUS:CONFIRMED
ORGANIZER:
DTSTAMP:20260420T085039Z
DTSTART;TZID=Europe/Berlin:20250922T170000
DTEND;TZID=Europe/Berlin:20250922T203000
LOCATION:Altstädter Straße 17
END:VEVENT
END:VCALENDAR