BEGIN:VCALENDAR
METHOD:PUBLISH
VERSION:2.0
CALSCALE:GREGORIAN
PRODID:-//NONSGML WPForms//NONSGML Sugar Calendar Feeds v3.11.0//EN
X-WR-CALNAME:Wofür es sich 2026 zu kämpfen lohnt - Denkraum Nordstadt
X-WR-CALDESC:#zusammenhalten Pforzheim
X-WR-TIMEZONE:Europe/Berlin
BEGIN:VTIMEZONE
TZID:Europe/Berlin
BEGIN:STANDARD
TZOFFSETFROM:+0200
TZOFFSETTO:+0100
DTSTART:20251026T010000
TZNAME:CET
END:STANDARD
END:VTIMEZONE
BEGIN:VTIMEZONE
TZID:Europe/Berlin
BEGIN:STANDARD
TZOFFSETFROM:+0200
TZOFFSETTO:+0100
DTSTART:20251026T010000
TZNAME:CET
END:STANDARD
END:VTIMEZONE
BEGIN:VEVENT
SUMMARY:Wofür es sich 2026 zu kämpfen lohnt - Denkraum Nordstadt
DESCRIPTION:Unsere Welt verändert sich in vielen Bereichen rasant\, in 
 anderen scheint sie stehenzubleiben oder wendet sich zurück. Welche Pun
 kte sind Ihnen wichtig\, im Kleinen oder Großen\, persönlich\, in der 
 Stadt\, im Land\, weltweit?\nFür was wollen Sie sich in diesem Jahr ein
 setzen? Mit welcher Unterstützung könnte das Gelingen? Teilen Sie mit
  uns Ihre Gedanken!\nMehr Informationen zu den Denkräumen\nDie Denkrä
 ume Nordstadt sind eine gemeinsame Initiative von #zusammenhalten Pforzh
 eim und der Evangelischen Erwachsenenbildung.
URL;VALUE=URI:https://www.zusammenhalten-pforzheim.de/events/wofuer-es-s
 ich-2026-zu-kaempfen-lohnt-denkraum-nordstadt/
UID:urn:uuid:e8f341d3-d4fe-4daf-8218-dff2a53e5d15
STATUS:CONFIRMED
ORGANIZER:
DTSTAMP:20260420T084259Z
DTSTART;TZID=Europe/Berlin:20260225T170000
DTEND;TZID=Europe/Berlin:20260225T190000
LOCATION:Karl-Bührer-Str. 5
END:VEVENT
END:VCALENDAR