BEGIN:VCALENDAR
METHOD:PUBLISH
VERSION:2.0
CALSCALE:GREGORIAN
PRODID:-//NONSGML WPForms//NONSGML Sugar Calendar Feeds v3.11.0//EN
X-WR-CALNAME:Was geht ... in Pforzheim? Deine Stimme. Dein Film.
X-WR-CALDESC:#zusammenhalten Pforzheim
X-WR-TIMEZONE:Europe/Berlin
BEGIN:VTIMEZONE
TZID:Europe/Berlin
BEGIN:STANDARD
TZOFFSETFROM:+0200
TZOFFSETTO:+0100
DTSTART:20251026T010000
TZNAME:CET
END:STANDARD
END:VTIMEZONE
BEGIN:VTIMEZONE
TZID:Europe/Berlin
BEGIN:STANDARD
TZOFFSETFROM:+0200
TZOFFSETTO:+0100
DTSTART:20251026T010000
TZNAME:CET
END:STANDARD
END:VTIMEZONE
BEGIN:VEVENT
SUMMARY:Was geht ... in Pforzheim? Deine Stimme. Dein Film.
DESCRIPTION:Wir feiern Premiere! Am Montag\, den 15.12.25 von 17:00 - 18
 :00 Uhr im Kommunalen Kino zeigen Jugendliche aus verschiedenen Stadttei
 len ihren gemeinsamen Kurzfilm – frisch\, ehrlich und voll eigener Per
 spektiven auf Leben\, Werte und Zukunft in Pforzheim.\n\nIn kreativen Wo
 rkshops mit der preisgekrönten Filmemacherin und Anti-Rassismus-Trainer
 in Merve Uslu-Ersoy entstanden Geschichten\, die sonst selten gehört we
 rden – jetzt kommen sie auf die große Leinwand.\n\nProgramm\n- Ankomm
 en &amp\; Empfang\n- Vorstellung des Projekts\n- Premiere des Kurzfilms\
 n- Austausch &amp\; Gespräch\n\nKostenlose Tickets können direkt beim 
 Kommunalen Kino reserviert werden: https://kommunales-kino-pforzheim.de/
 movie/was-geht-in-pforzheim\nKommt vorbei: Jugend\, Stadtgesellschaft\, 
 Politik – wir wollen miteinander ins Gespräch kommen!
URL;VALUE=URI:https://www.zusammenhalten-pforzheim.de/events/was-geht-in
 -pforzheim/
UID:urn:uuid:abb1b027-ceda-45d6-9bb9-ed3521e214fe
STATUS:CONFIRMED
ORGANIZER:
DTSTAMP:20260419T163319Z
DTSTART;TZID=Europe/Berlin:20251215T170000
DTEND;TZID=Europe/Berlin:20251215T180000
LOCATION:Kommunales Kino\, Schlossberg 20 \,Pforzheim\,75175
END:VEVENT
END:VCALENDAR