BEGIN:VCALENDAR
METHOD:PUBLISH
VERSION:2.0
CALSCALE:GREGORIAN
PRODID:-//NONSGML WPForms//NONSGML Sugar Calendar Feeds v3.11.0//EN
X-WR-CALNAME:Talkrunde zur Landtagswahl
X-WR-CALDESC:#zusammenhalten Pforzheim
X-WR-TIMEZONE:Europe/Berlin
BEGIN:VTIMEZONE
TZID:Europe/Berlin
BEGIN:STANDARD
TZOFFSETFROM:+0200
TZOFFSETTO:+0100
DTSTART:20251026T010000
TZNAME:CET
END:STANDARD
END:VTIMEZONE
BEGIN:VTIMEZONE
TZID:Europe/Berlin
BEGIN:STANDARD
TZOFFSETFROM:+0200
TZOFFSETTO:+0100
DTSTART:20251026T010000
TZNAME:CET
END:STANDARD
END:VTIMEZONE
BEGIN:VEVENT
SUMMARY:Talkrunde zur Landtagswahl
DESCRIPTION:Wir wollen eine Stadt und Gemeinden\, die für alle Generati
 onen lebenswert\, bezahlbar und existenzsicher sind!\nWie das gelingen s
 oll? Das werden wir mit den Kandidatinnen und Kandidaten zur Landtagswah
 l diskutieren.\n\nDeshalb laden wir Sie zu unserer ersten Veranstaltun
 g im neuen Jahr ein. Das Programm ist flexibel zum Einsteigen:\n \nTalk
 runde zur Landtagswahl\nMittwoch\, 21. Januar 2026 ab 17:00 Uhr\n17.00 
 Uhr: Führung durch den Alten Schlachthof\nab 17.30 Uhr: Ankommen\, Getr
 änke &amp\; Imbiss (Gewerbekultur)\, Infostände der Parteien\n18.00 Uh
 r: Beginn der Talkrunde\n\n \nWir sind auf die Kandidatinnen und Kandid
 aten und ihre politischen Aussagen gespannt.\n\nDies ist eine gemeinsame
  Veranstaltung von: Gewerbekultur Alter Schlachthof Pforzheim\, Mieterve
 rein Pforzheim Enzkreis sowie dem DGB mit seinen Gewerkschaften.
URL;VALUE=URI:https://www.zusammenhalten-pforzheim.de/events/talkrunde-l
 andtagswahl-21-1-2026/
UID:urn:uuid:dda51962-c100-4b23-af61-0cc32e5aecbe
STATUS:CONFIRMED
ORGANIZER:
DTSTAMP:20260419T142023Z
DTSTART;TZID=Europe/Berlin:20260121T170000
DTEND;TZID=Europe/Berlin:20260121T200000
LOCATION:Kleiststr. 2
END:VEVENT
END:VCALENDAR