BEGIN:VCALENDAR
METHOD:PUBLISH
VERSION:2.0
CALSCALE:GREGORIAN
PRODID:-//NONSGML WPForms//NONSGML Sugar Calendar Feeds v3.11.0//EN
X-WR-CALNAME:Sitzung des Jugendgemeinderats
X-WR-CALDESC:#zusammenhalten Pforzheim
X-WR-TIMEZONE:Europe/Berlin
BEGIN:VTIMEZONE
TZID:Europe/Berlin
BEGIN:STANDARD
TZOFFSETFROM:+0200
TZOFFSETTO:+0100
DTSTART:20251026T010000
TZNAME:CET
END:STANDARD
END:VTIMEZONE
BEGIN:VTIMEZONE
TZID:Europe/Berlin
BEGIN:STANDARD
TZOFFSETFROM:+0200
TZOFFSETTO:+0100
DTSTART:20251026T010000
TZNAME:CET
END:STANDARD
END:VTIMEZONE
BEGIN:VEVENT
SUMMARY:Sitzung des Jugendgemeinderats
DESCRIPTION:
URL;VALUE=URI:https://www.zusammenhalten-pforzheim.de/events/sitzung-des
 -jugendgemeinderats/
UID:urn:uuid:15f7bf89-92a1-4c47-a29a-d4b06c5451d5
STATUS:CONFIRMED
ORGANIZER:
DTSTAMP:20260419T184139Z
DTSTART;TZID=Europe/Berlin:20260122T173000
DTEND;TZID=Europe/Berlin:20260122T190000
LOCATION:Am Marktplatz 1
END:VEVENT
END:VCALENDAR