BEGIN:VCALENDAR
METHOD:PUBLISH
VERSION:2.0
CALSCALE:GREGORIAN
PRODID:-//NONSGML WPForms//NONSGML Sugar Calendar Feeds v3.11.0//EN
X-WR-CALNAME:Sitzung des Internationalen Beirats
X-WR-CALDESC:#zusammenhalten Pforzheim
X-WR-TIMEZONE:Europe/Berlin
BEGIN:VTIMEZONE
TZID:Europe/Berlin
BEGIN:STANDARD
TZOFFSETFROM:+0200
TZOFFSETTO:+0100
DTSTART:20251026T010000
TZNAME:CET
END:STANDARD
END:VTIMEZONE
BEGIN:VTIMEZONE
TZID:Europe/Berlin
BEGIN:STANDARD
TZOFFSETFROM:+0200
TZOFFSETTO:+0100
DTSTART:20251026T010000
TZNAME:CET
END:STANDARD
END:VTIMEZONE
BEGIN:VEVENT
SUMMARY:Sitzung des Internationalen Beirats
DESCRIPTION:
URL;VALUE=URI:https://www.zusammenhalten-pforzheim.de/events/sitzung-des
 -internationalen-beirats/
UID:urn:uuid:f1aa9b83-ae68-4e13-9a2e-12d353163f83
STATUS:CONFIRMED
ORGANIZER:
DTSTAMP:20260419T173309Z
DTSTART;TZID=Europe/Berlin:20260205T170000
DTEND;TZID=Europe/Berlin:20260205T183000
LOCATION:Am Marktplatz 1
END:VEVENT
END:VCALENDAR