BEGIN:VCALENDAR
METHOD:PUBLISH
VERSION:2.0
CALSCALE:GREGORIAN
PRODID:-//NONSGML WPForms//NONSGML Sugar Calendar Feeds v3.11.0//EN
X-WR-CALNAME:Flüchtlingspolitik mit Sinn und Verstand: Integration gest
 alten in Baden-Württemberg
X-WR-CALDESC:#zusammenhalten Pforzheim
X-WR-TIMEZONE:Europe/Berlin
BEGIN:VTIMEZONE
TZID:Europe/Berlin
BEGIN:STANDARD
TZOFFSETFROM:+0200
TZOFFSETTO:+0100
DTSTART:20251026T010000
TZNAME:CET
END:STANDARD
END:VTIMEZONE
BEGIN:VTIMEZONE
TZID:Europe/Berlin
BEGIN:STANDARD
TZOFFSETFROM:+0200
TZOFFSETTO:+0100
DTSTART:20251026T010000
TZNAME:CET
END:STANDARD
END:VTIMEZONE
BEGIN:VEVENT
SUMMARY:Flüchtlingspolitik mit Sinn und Verstand: Integration gestalten
  in Baden-Württemberg
DESCRIPTION:Digitales Podiumsgespräch\n\nAnmeldung bis 12.01.2026 unte
 r: eok-migration@ekiba.de\n\nDas digitale Podiumsgespräch soll im Vorf
 eld der Landtagswahl am 8. März der Versachlichung der Diskussion um di
 e Aufnahme von Geflüchteten in Baden-Württemberg dienen und den Teilne
 hmenden ermöglichen\, sich ein reales Bild von der aktuellen Situation 
 im Land zu machen.\n\n \n\nFlüchtlingspolitik mit Sinn und Verstand:\,
  Mi. 14.01.2026\, 19:30 bis 21:00 Uhr\n\n HINTERGRUND:\n\nDie Aufnahme 
 von Geflüchteten ist aktuell ein Thema\, an dem sich polarisierende und
  aufgeladene Diskussionen entzünden. Eine große Zahl von Geflüchteten
  aufzunehmen\, birgt Herausforderungen und erfordert gesellschaftliche u
 nd politische Lösungen. Darüber muss gesprochen werden.\n\nDie Veranst
 altung der Evangelischen Landeskirche in Baden lädt dazu ein\, eine von
  Vernunft und nicht (nur) von Emotionen gelenkte Haltung zum Thema Fluch
 t und Migration zu entwickeln. Dafür braucht es sachliche Information a
 us erster Hand von denen\, die täglich mit der Aufnahme und Integration
  von Geflüchteten zu tun haben und die politischen und rechtlichen Rahm
 enbedingungen gut kennen. Vertreterinnen und aus der Verwaltung\, den Wo
 hlfahrtsverbänden und der Zivilgesellschaft werden bei der Veranstaltun
 g auf die Fragen der Zuhörenden eingehen und zu einer Versachlichung de
 r Diskussion beitragen.\n\nAuf dem Podium informieren und diskutieren:\n
 \n 	Jürgen Blechinger\, Jurist\, Leitung Bereich Flucht\, Migration u. 
 Interkulturelle Kompetenz im Evangelischen Oberkirchenrat\, Abteilungsle
 itung Flucht und Migration des Diakonischen Werks Baden\n 	Markus Rothfu
 ß\, Regierungspräsidium Karlsruhe\, Präsident der Abteilung 9\, Flüc
 htlingsangelegenheiten\, landesweite Steuerung\, Aufnahme\, Unterbringun
 g\, Verteilung\n 	Nancy Gelb\, kirchlich-diakonische Fachberatung Flucht
  im Neckar-Odenwaldkreis und Main-Tauber Kreis\n 	Anne Feßenbecker\, Re
 chtsanwältin\n 	Judith Scheibe\, Teamleitung unabhängige Verfahrens- u
 nd Sozialberatung im Ankunftszentrum Heidelberg\n 	NN Städtetag Baden-W
 ürttemberg\n\nModeriert wird die Veranstaltung von Pfarrerin Sigrid Zwe
 ygart-Pérez\, Landeskirchliche Beauftragte Flucht\, Migration und Integ
 ration der Evangelischen Landeskirche in Baden\n\nVeranstalterin: Evange
 lische Landeskirche in Baden in Kooperation mit dem Diakonischen Werk Ba
 den
URL;VALUE=URI:https://www.zusammenhalten-pforzheim.de/events/podium_flue
 chtlingspolitik_14-1-2026/
UID:urn:uuid:7da50508-bcdf-40e5-9adc-acfbeecd9f74
STATUS:CONFIRMED
ORGANIZER:
DTSTAMP:20260419T160001Z
DTSTART;TZID=Europe/Berlin:20260114T193000
DTEND;TZID=Europe/Berlin:20260114T210000
END:VEVENT
END:VCALENDAR