BEGIN:VCALENDAR
METHOD:PUBLISH
VERSION:2.0
CALSCALE:GREGORIAN
PRODID:-//NONSGML WPForms//NONSGML Sugar Calendar Feeds v3.11.0//EN
X-WR-CALNAME:"Kultur im Kreuzfeuer" (Denkraum Pforzheim)
X-WR-CALDESC:#zusammenhalten Pforzheim
X-WR-TIMEZONE:Europe/Berlin
BEGIN:VTIMEZONE
TZID:Europe/Berlin
BEGIN:DAYLIGHT
TZOFFSETFROM:+0100
TZOFFSETTO:+0200
DTSTART:20250330T010000
TZNAME:CEST
END:DAYLIGHT
END:VTIMEZONE
BEGIN:VTIMEZONE
TZID:Europe/Berlin
BEGIN:DAYLIGHT
TZOFFSETFROM:+0100
TZOFFSETTO:+0200
DTSTART:20250330T010000
TZNAME:CEST
END:DAYLIGHT
END:VTIMEZONE
BEGIN:VEVENT
SUMMARY:"Kultur im Kreuzfeuer" (Denkraum Pforzheim)
DESCRIPTION:um 15:30 Uhr Besuch der Ausstellung „Boxing Culture“\num
  17 Uhr Denkraum\, bei schönem Wetter im Stadtgarten\n\nBücher\, Kunst
 \, Ausstellungen und Gedenkstätten\, Schauspiel\, Tanz und Musik laden 
 uns\nein\, die Vielfalt der Welt kennenzulernen\, über uns selbst nachz
 udenken und uns kreativ\nmit unserer Umwelt auseinanderzusetzen. Neben d
 er Unterhaltung dienen Bibliotheken\,\nTheater\, Museen und freie Kunsti
 nitiativen der Begegnung\, der Bildung und dem\nPerspektivwechsel. Doch 
 die Programme sind unter Druck: durch Einschränkungen der\nKulturförde
 rung\, durch populistische bis extremistische Einflussnahme\, durch elit
 äre\nAnsprüche ebenso wie durch Kommerzialisierung.\nWie erleben Sie K
 unst und Kultur und ihre aktuelle Situation?\n\nTeilen Sie mit uns Ihre 
 Gedanken!
URL;VALUE=URI:https://www.zusammenhalten-pforzheim.de/events/kultur-im-k
 reuzfeuer-denkraum-pforzheim/
UID:urn:uuid:6d402a97-35be-46e5-acd7-a87c9b066527
STATUS:CONFIRMED
ORGANIZER:
DTSTAMP:20260419T142820Z
DTSTART;TZID=Europe/Berlin:20250827T153000
DTEND;TZID=Europe/Berlin:20250827T190000
LOCATION:Jahnstraße 42
END:VEVENT
END:VCALENDAR