BEGIN:VCALENDAR
METHOD:PUBLISH
VERSION:2.0
CALSCALE:GREGORIAN
PRODID:-//NONSGML WPForms//NONSGML Sugar Calendar Feeds v3.11.0//EN
X-WR-CALNAME:"Keine Mehr"
X-WR-CALDESC:#zusammenhalten Pforzheim
X-WR-TIMEZONE:Europe/Berlin
BEGIN:VTIMEZONE
TZID:Europe/Berlin
BEGIN:DAYLIGHT
TZOFFSETFROM:+0100
TZOFFSETTO:+0200
DTSTART:20250330T010000
TZNAME:CEST
END:DAYLIGHT
END:VTIMEZONE
BEGIN:VTIMEZONE
TZID:Europe/Berlin
BEGIN:DAYLIGHT
TZOFFSETFROM:+0100
TZOFFSETTO:+0200
DTSTART:20250330T010000
TZNAME:CEST
END:DAYLIGHT
END:VTIMEZONE
BEGIN:VEVENT
SUMMARY:"Keine Mehr"
DESCRIPTION: \n„Keine Mehr“ ist ein eindrucksvolles dokumentarische
 s Theaterstück\, das sich mit Femiziden in Deutschland auseinandersetzt
  – mit erschütternden Geschichten\, die hinter den Schlagzeilen stehe
 n\, und Stimmen\, die allzu oft überhört werden. Die Inszenierung mach
 t dieErfahrungen Betroffener sichtbar und gibt Anlass zum Innehalten\, Z
 uhören und gemeinsamen Nachdenken.\n\nIm Anschluss an die Aufführung f
 indet ein Gespräch mit lokalen Expert*innen statt. Zu Gast sind die 
 Beratungsstelle Lilith\, das Frauenhaus Pforzheim sowie das Frauenbü
 ndnis Pforzheim/Enzkreis. Gerade am Tag der Demokratie möchten wir uns 
 für Gleichberechtigung\, Menschenwürde und gesellschaftlichen Zusammen
 halt starkmachen. Die gesamte Pforzheimer Stadtgesellschaft ist eingel
 aden\, gemeinsam ein Zeichen gegen Gewalt und für ein demokratisches Mi
 teinander zu setzen.\n\nDer Eintritt ist frei.\n\n\nOrganisiert von der 
 Koordinierungs- und Fachstelle der Partnerschaft für Demokratie\, Inter
 nationaler Bund e.V.
URL;VALUE=URI:https://www.zusammenhalten-pforzheim.de/events/keine-mehr/
UID:urn:uuid:add5582c-0577-4455-899e-111902e5c7e4
STATUS:CONFIRMED
ORGANIZER:
DTSTAMP:20260422T102846Z
DTSTART;TZID=Europe/Berlin:20250915T190000
DTEND;TZID=Europe/Berlin:20250915T213000
LOCATION:Osterfeldstr. 12
END:VEVENT
END:VCALENDAR