BEGIN:VCALENDAR
METHOD:PUBLISH
VERSION:2.0
CALSCALE:GREGORIAN
PRODID:-//NONSGML WPForms//NONSGML Sugar Calendar Feeds v3.11.0//EN
X-WR-CALNAME:Kein Land für Niemand - Abschottung eines Einwanderungslan
 des
X-WR-CALDESC:#zusammenhalten Pforzheim
X-WR-TIMEZONE:Europe/Berlin
BEGIN:VTIMEZONE
TZID:Europe/Berlin
BEGIN:STANDARD
TZOFFSETFROM:+0200
TZOFFSETTO:+0100
DTSTART:20251026T010000
TZNAME:CET
END:STANDARD
END:VTIMEZONE
BEGIN:VTIMEZONE
TZID:Europe/Berlin
BEGIN:STANDARD
TZOFFSETFROM:+0200
TZOFFSETTO:+0100
DTSTART:20251026T010000
TZNAME:CET
END:STANDARD
END:VTIMEZONE
BEGIN:VEVENT
SUMMARY:Kein Land für Niemand - Abschottung eines Einwanderungslandes
DESCRIPTION:Koki vor Ort\nin Kooperation mit #zusammendorf keltern und d
 em Arbeitskreis Flüchtlinge Keltern\nDeutschland schottet sich ab. Im J
 ahr 2025 verabschiedete der Bundestag ein Gesetz zur Begrenzung der Zuwa
 nderung\, das unter anderem die Schließung der deutschen Grenzen forder
 t. Damit zeichnet sich ein politischer Kurswechsel ab: weg vom Schutz ge
 flüchteter Menschen\, hin zu Abschottung und Abschreckung. Der Film zei
 chnet die Ursachen dieser Entwicklung nach\, die an den europäischen Au
 ßengrenzen beginnt\, wo sich viele Dramen abspielen. Der Film dokumenti
 ert einen Rettungseinsatz auf dem Mittelmeer und erzählt von Menschen\,
  die trotz großer Gefahren und Hindernisse den Weg nach Deutschland auf
  sich nehmen.\nBegrenzte Platzzahl - bitte den Vorverkauf nutzen! Ticket
 s: koki-pf.de\nhttps://kommunales-kino-pforzheim.de/movie/kein-land-fuer
 -niemand-abschottung-eines-einwanderungslandes
URL;VALUE=URI:https://www.zusammenhalten-pforzheim.de/events/kein-land-f
 uer-niemand-28-2-2026/
UID:urn:uuid:9024e60a-61d5-4958-8d69-6b3ad3c91777
STATUS:CONFIRMED
ORGANIZER:
DTSTAMP:20260419T142522Z
DTSTART;TZID=Europe/Berlin:20260228T180000
DTEND;TZID=Europe/Berlin:20260228T200000
LOCATION:Im Altenloh 3
END:VEVENT
END:VCALENDAR