BEGIN:VCALENDAR
METHOD:PUBLISH
VERSION:2.0
CALSCALE:GREGORIAN
PRODID:-//NONSGML WPForms//NONSGML Sugar Calendar Feeds v3.11.0//EN
X-WR-CALNAME:Öffentliche Sitzung des Jugendgemeinderates
X-WR-CALDESC:#zusammenhalten Pforzheim
X-WR-TIMEZONE:Europe/Berlin
BEGIN:VTIMEZONE
TZID:Europe/Berlin
BEGIN:DAYLIGHT
TZOFFSETFROM:+0100
TZOFFSETTO:+0200
DTSTART:20250330T010000
TZNAME:CEST
END:DAYLIGHT
END:VTIMEZONE
BEGIN:VTIMEZONE
TZID:Europe/Berlin
BEGIN:DAYLIGHT
TZOFFSETFROM:+0100
TZOFFSETTO:+0200
DTSTART:20250330T010000
TZNAME:CEST
END:DAYLIGHT
END:VTIMEZONE
BEGIN:VEVENT
SUMMARY:Öffentliche Sitzung des Jugendgemeinderates
DESCRIPTION:Junge Bürger:innen haben die Möglichkeit dem Gremium Frage
 n zu stellen und sich somit aktiv in die Demokratie einzubringen.\n\n&nb
 sp\;
URL;VALUE=URI:https://www.zusammenhalten-pforzheim.de/events/jugendgemei
 nderat-24072025/
UID:urn:uuid:d4f6c33e-c02e-4f0a-84d0-ecc34f237e0b
STATUS:CONFIRMED
ORGANIZER:
DTSTAMP:20260420T084737Z
DTSTART;TZID=Europe/Berlin:20250724T173000
DTEND;TZID=Europe/Berlin:20250724T183000
LOCATION:Am Marktplatz 1
END:VEVENT
END:VCALENDAR