BEGIN:VCALENDAR
METHOD:PUBLISH
VERSION:2.0
CALSCALE:GREGORIAN
PRODID:-//NONSGML WPForms//NONSGML Sugar Calendar Feeds v3.11.0//EN
X-WR-CALNAME:â€žIn welcher Gesellschaft wollen wir leben?â€œ
X-WR-CALDESC:#zusammenhalten Pforzheim
X-WR-TIMEZONE:Europe/Berlin
BEGIN:VTIMEZONE
TZID:Europe/Berlin
BEGIN:STANDARD
TZOFFSETFROM:+0200
TZOFFSETTO:+0100
DTSTART:20251026T010000
TZNAME:CET
END:STANDARD
END:VTIMEZONE
BEGIN:VTIMEZONE
TZID:Europe/Berlin
BEGIN:STANDARD
TZOFFSETFROM:+0200
TZOFFSETTO:+0100
DTSTART:20251026T010000
TZNAME:CET
END:STANDARD
END:VTIMEZONE
BEGIN:VEVENT
SUMMARY:â€žIn welcher Gesellschaft wollen wir leben?â€œ
DESCRIPTION:Sprechen &amp\; ZuhÃ¶ren - Denkraum Weststadt\nDie Welt ist 
 voller Meinungen â€“ und manchmal scheinen die GrÃ¤ben dazwischen unÃ¼be
 rwindbar. Mit den DenkrÃ¤umen Weststadt schaffen wir einen Ort\, an dem 
 Menschen wieder ins GesprÃ¤ch kommen kÃ¶nnen: respektvoll\, offen und fr
 ei von Bewertungen.In moderierten Kleingruppen laden wir dazu ein\, Geda
 nken\, Sorgen und Perspektiven zu teilen. Hier zÃ¤hlt jede Stimme\, hier
  wird niemand unterbrochen â€“ und gerade so entsteht ein Raum\, in dem 
 echtes ZuhÃ¶ren mÃ¶glich wird.\n\nWas erwartet Sie?- ein geschÃ¼tzter Ra
 hmen fÃ¼r Austausch und Begegnung- die Erfahrung\, wie wertvoll aktives 
 ZuhÃ¶ren sein kann- Vielfalt an Meinungen â€“ die nebeneinanderstehen dÃ
 ¼rfenEin Beitrag dazu\, Demokratie im Alltag lebendig zu machen.Die Denk
 rÃ¤ume Weststadt sind eine gemeinsame Initiative von Kulturhaus Osterfel
 d\, der Evangelischen Erwachsenenbildung und #zusammenhalten Pforzheim.\
 n\n&nbsp\;
URL;VALUE=URI:https://www.zusammenhalten-pforzheim.de/events/in-welcher-
 gesellschaft-wollen-wir-leben/
UID:urn:uuid:141c2b44-641c-4810-a5a8-16a213a7077a
STATUS:CONFIRMED
ORGANIZER:
DTSTAMP:20260419T215715Z
DTSTART;TZID=Europe/Berlin:20260114T190000
DTEND;TZID=Europe/Berlin:20260114T210000
LOCATION:Osterfeldstr. 12
END:VEVENT
END:VCALENDAR