BEGIN:VCALENDAR
METHOD:PUBLISH
VERSION:2.0
CALSCALE:GREGORIAN
PRODID:-//NONSGML WPForms//NONSGML Sugar Calendar Feeds v3.11.0//EN
X-WR-CALNAME:Frauen stärken Frauen
X-WR-CALDESC:#zusammenhalten Pforzheim
X-WR-TIMEZONE:Europe/Berlin
BEGIN:VTIMEZONE
TZID:Europe/Berlin
BEGIN:STANDARD
TZOFFSETFROM:+0200
TZOFFSETTO:+0100
DTSTART:20251026T010000
TZNAME:CET
END:STANDARD
END:VTIMEZONE
BEGIN:VTIMEZONE
TZID:Europe/Berlin
BEGIN:STANDARD
TZOFFSETFROM:+0200
TZOFFSETTO:+0100
DTSTART:20251026T010000
TZNAME:CET
END:STANDARD
END:VTIMEZONE
BEGIN:VEVENT
SUMMARY:Frauen stärken Frauen
DESCRIPTION:Die Vorweihnachtszeit ist insbesondere für ukrainische Frau
 en sehr schwer. Für uns ist es ja schon schwierig\, die Bilder im Ferns
 ehen zu ertragen. Bei den meisten dieser Frauen sind aber Männer oder S
 öhne im Krieg. Das Ankommen in der deutschen Gesellschaft gelingt nur b
 edingt. Der starke Wunsch nach Verbindung dominiert vor allem von ukrain
 ischer Seite. Von der deutschen Seite kommen große Erwartungen\, aber k
 aum Möglichkeiten zu Verbindung. Mit diesem Format will die Deutsch-Ukr
 ainische Gesellschaft Pforzheim/Enzkreis eine Brücke schlagen. Vielleic
 ht kennen Sie Menschen\, die gegebenenfalls sogar von diesem Format prof
 itieren könnten\, weil sie selbst einsam sind. Oder die ein besonderes 
 Geschenk machen möchten. Vielleicht haben Sie selbst Zeit? Das wäre na
 türlich ein ganz großartiger Gewinn.\n\nAnmeldung unter dukrg.pfenz@gm
 ail.com oder per Whatsapp an 01736746531.
URL;VALUE=URI:https://www.zusammenhalten-pforzheim.de/events/frauen-stae
 rken-frauen/
UID:urn:uuid:d34ae383-1132-4d98-b623-7f5ffb756f56
STATUS:CONFIRMED
ORGANIZER:
DTSTAMP:20260419T164536Z
DTSTART;TZID=Europe/Berlin:20251213T150000
DTEND;TZID=Europe/Berlin:20251213T170000
LOCATION:Jahnstraße 42
END:VEVENT
END:VCALENDAR