BEGIN:VCALENDAR
METHOD:PUBLISH
VERSION:2.0
CALSCALE:GREGORIAN
PRODID:-//NONSGML WPForms//NONSGML Sugar Calendar Feeds v3.11.0//EN
X-WR-CALNAME:Digital Independence Day
X-WR-CALDESC:#zusammenhalten Pforzheim
X-WR-TIMEZONE:Europe/Berlin
BEGIN:VTIMEZONE
TZID:Europe/Berlin
BEGIN:STANDARD
TZOFFSETFROM:+0200
TZOFFSETTO:+0100
DTSTART:20251026T010000
TZNAME:CET
END:STANDARD
END:VTIMEZONE
BEGIN:VTIMEZONE
TZID:Europe/Berlin
BEGIN:STANDARD
TZOFFSETFROM:+0200
TZOFFSETTO:+0100
DTSTART:20251026T010000
TZNAME:CET
END:STANDARD
END:VTIMEZONE
BEGIN:VEVENT
SUMMARY:Digital Independence Day
DESCRIPTION:Unser digitales Leben befindet sich in der Hand weniger Supe
 rreicher. Mit der Monopolstellung ihrer Unternehmen bestimmen Menschen w
 ie Elon Musk\, Jeff Bezos oder Mark Zuckerberg weltweit\, wie wir uns o
 nline informieren\, wie wir diskutieren\, kommunizieren oder handeln. E
 inen solchen unkontrollierten Einfluss sollte kein Mensch und kein Unter
 nehmen besitzen\, weil wir dann nicht mehr in Freiheit leben können.\n\
 nDie gute Nachricht: Diese Macht geben wir ihnen derzeit\, und wir k
 önnen sie ihnen auch wieder nehmen: An jedem ersten Sonntag im Monat gi
 bt es deshalb den #DigitalIndependenceDay: Wir holen uns unser freies di
 gitales Leben zurück\, zerstören die Demokratie nicht weiter und wechs
 eln zu demokratiefreundlichen digitalen Alternativen. Und wir sichern un
 s nach und nach unsere digitale Unabhängigkeit!\n\nMehr Informationen z
 um Di.Day\, zu Wechselrezepten sowie zu den Partnern und Veranstaltungen
  hier. \n\nDer Di.Day findet jeden ersten Sonntag im Monat statt.
URL;VALUE=URI:https://www.zusammenhalten-pforzheim.de/events/digital-ind
 ependence-day/
UID:urn:uuid:7810b9e0-943f-44b4-b1ab-8635d0c7881f
STATUS:CONFIRMED
ORGANIZER:
DTSTAMP:20260419T194733Z
DTSTART;VALUE=DATE:20260104
END:VEVENT
END:VCALENDAR