BEGIN:VCALENDAR
METHOD:PUBLISH
VERSION:2.0
CALSCALE:GREGORIAN
PRODID:-//NONSGML WPForms//NONSGML Sugar Calendar Feeds v3.11.0//EN
X-WR-CALNAME:Die Unbeugsamen
X-WR-CALDESC:#zusammenhalten Pforzheim
X-WR-TIMEZONE:Europe/Berlin
BEGIN:VTIMEZONE
TZID:Europe/Berlin
BEGIN:STANDARD
TZOFFSETFROM:+0200
TZOFFSETTO:+0100
DTSTART:20251026T010000
TZNAME:CET
END:STANDARD
END:VTIMEZONE
BEGIN:VTIMEZONE
TZID:Europe/Berlin
BEGIN:STANDARD
TZOFFSETFROM:+0200
TZOFFSETTO:+0100
DTSTART:20251026T010000
TZNAME:CET
END:STANDARD
END:VTIMEZONE
BEGIN:VEVENT
SUMMARY:Die Unbeugsamen
DESCRIPTION:Emotional bewegende Chronik westdeutscher Politik über den 
 Kampf der Frauen\, gehört und respektiert zu werden\n\n\nDie spannende 
 und bewegende Chronik westdeutscher Politik von 1950 bis zur Wiederverei
 nigung ist ein Dokumentarfilm wie er hellsichtiger und aktueller nicht s
 ein könnte. Obwohl die Geschichte der Frauen in der Bonner Republik ein
  historisches Zeitdokument ist\, wirft dieser unbedingt sehenswerte Rüc
 kblick in Zeiten von #metoo um Machtmissbrauch und sexuelle Gewalt ein S
 chlaglicht auf das immer wieder zurückgedrängte Thema Emanzipation und
  Feminismus. Die stimmigen Interviews und historischen Aufnahmen zeigen\
 , wie sehr sich die Politikerinnen jedweder Coleur die Teilhabe an demok
 ratischen Prozess im Bonner Parlament gegen ignorante Männer erkämpfen
  mussten. Großes politisches Kino. ...\n\nMit Einführung | Mit den Kre
 isLandFrauen Enzkreis
URL;VALUE=URI:https://www.zusammenhalten-pforzheim.de/events/die-unbeugs
 amen/
UID:urn:uuid:43fa1c0b-9032-4665-895c-e01b792bb3aa
STATUS:CONFIRMED
ORGANIZER:
DTSTAMP:20260419T213542Z
DTSTART;TZID=Europe/Berlin:20260110T100000
DTEND;TZID=Europe/Berlin:20260110T120000
LOCATION:Schlossberg 20
END:VEVENT
END:VCALENDAR