BEGIN:VCALENDAR
METHOD:PUBLISH
VERSION:2.0
CALSCALE:GREGORIAN
PRODID:-//NONSGML WPForms//NONSGML Sugar Calendar Feeds v3.11.0//EN
X-WR-CALNAME:Denkraum Weststadt - „Was darf man heute eigentlich noch 
 sagen?“
X-WR-CALDESC:#zusammenhalten Pforzheim
X-WR-TIMEZONE:Europe/Berlin
BEGIN:VTIMEZONE
TZID:Europe/Berlin
BEGIN:STANDARD
TZOFFSETFROM:+0200
TZOFFSETTO:+0100
DTSTART:20251026T010000
TZNAME:CET
END:STANDARD
END:VTIMEZONE
BEGIN:VTIMEZONE
TZID:Europe/Berlin
BEGIN:STANDARD
TZOFFSETFROM:+0200
TZOFFSETTO:+0100
DTSTART:20251026T010000
TZNAME:CET
END:STANDARD
END:VTIMEZONE
BEGIN:VEVENT
SUMMARY:Denkraum Weststadt - „Was darf man heute eigentlich noch sagen
 ?“
DESCRIPTION:Viele haben das Gefühl\, man muss immer aufpassen\, was man
  sagt. Ist das nur ein Gefühl oder Wirklichkeit?\n\nIn den Denkräumen 
 geht es nicht darum\, andere zu überzeugen. Es geht darum\, eigene Geda
 nken zu entwickeln – und anderen gut zuzuhören.Wir sprechen über sch
 wierige und kontroverse Themen\, die uns alle angehen und bewegen. Dabei
  reden Menschen aus verschiedenen Gruppenmiteinander. So lernen wir\, be
 sser miteinander umzugehen.Die Gespräche sind moderiert.
URL;VALUE=URI:https://www.zusammenhalten-pforzheim.de/events/denkraum-we
 ststadt-was-darf-man-heute-eigentlich-noch-sagen-2/
UID:urn:uuid:d53c6491-fc1b-4326-b3d1-5c4518097279
STATUS:CONFIRMED
ORGANIZER:
DTSTAMP:20260419T133545Z
DTSTART;TZID=Europe/Berlin:20251210T190000
DTEND;TZID=Europe/Berlin:20251210T210000
LOCATION:Osterfeldstr. 12
END:VEVENT
END:VCALENDAR