BEGIN:VCALENDAR
METHOD:PUBLISH
VERSION:2.0
CALSCALE:GREGORIAN
PRODID:-//NONSGML WPForms//NONSGML Sugar Calendar Feeds v3.11.0//EN
X-WR-CALNAME:"Brauchen wir Probleme?" Denkraum Nordstadt
X-WR-CALDESC:#zusammenhalten Pforzheim
X-WR-TIMEZONE:Europe/Berlin
BEGIN:VTIMEZONE
TZID:Europe/Berlin
BEGIN:STANDARD
TZOFFSETFROM:+0200
TZOFFSETTO:+0100
DTSTART:20251026T010000
TZNAME:CET
END:STANDARD
END:VTIMEZONE
BEGIN:VTIMEZONE
TZID:Europe/Berlin
BEGIN:STANDARD
TZOFFSETFROM:+0200
TZOFFSETTO:+0100
DTSTART:20251026T010000
TZNAME:CET
END:STANDARD
END:VTIMEZONE
BEGIN:VEVENT
SUMMARY:"Brauchen wir Probleme?" Denkraum Nordstadt
DESCRIPTION:Probleme zu erkennen und sie zu lÃ¶sen\, kann unser Leben un
 d unsere Welt besser machen. Probleme zu benennen\, gibt uns Orientierun
 g. Aber mÃ¼ssen wir immer nach Haken suchen? Machen wir aus einer MÃ¼cke
  einen Elefanten oder nehmen wir alles auf die leichte Schulter? Lenken 
 wir mit manchen Problemen von wichtigeren Themen ab? KÃ¶nnen ProblemlÃ¶s
 ungen auch etwas kaputt machen? Muss alles besser werden oder kann es au
 ch mal einfach gut sein?\n\nWelche Erfahrungen haben Sie mit Problemen?Â
  Teilen Sie mit uns Ihre Gedanken!\n\n\n\nZu den DenkrÃ¤umen:\n\nBei den
  DenkrÃ¤umen Pforzheim geht es darum\, die eigenen Gedanken zu entwickel
 n und aktiv zuzuhÃ¶ren\, und nicht\, andere zu Ã¼berzeugen. Die DenkrÃ¤u
 me unterstÃ¼tzen den Austausch zu kontroversen Themen Ã¼ber Gruppengrenz
 en hinweg und fÃ¶rdern dadurch einen gemeinschaftlichen Umgang miteinand
 er. In moderierten GesprÃ¤chen schaffen wir eine Umgebung fÃ¼r gemeinsam
 es Nachdenken: Ã¼ber die eigenen und andere Positionen. Die Teilnehmende
 n verpflichten sich\, sich gegenseitig Aufmerksamkeit zu schenken. Dabei
  erhalten alle die gleiche Zeit\, um ihre Gedanken zu formulieren und ih
 re Ideen zu teilen. Jeder kommt zu Wort\, ohne unterbrochen zu werden.\n
 \nDie DenkrÃ¤ume Pforzheim sind eine Initiative des BÃ¼ndnisses #zusamme
 nhalten Pforzheim und werden unterstÃ¼tzt von der Evangelischen Erwachse
 nenbildung Pforzheim.Â 
URL;VALUE=URI:https://www.zusammenhalten-pforzheim.de/events/brauchen-wi
 r-probleme-denkraum-nordstadt/
UID:urn:uuid:9024e8d6-f8ec-4101-81a8-98bf0fa42cf2
STATUS:CONFIRMED
ORGANIZER:
DTSTAMP:20260419T195112Z
DTSTART;TZID=Europe/Berlin:20260128T170000
DTEND;TZID=Europe/Berlin:20260128T190000
LOCATION:Karl-BÃ¼hrer-Str. 5
END:VEVENT
END:VCALENDAR