BEGIN:VCALENDAR
METHOD:PUBLISH
VERSION:2.0
CALSCALE:GREGORIAN
PRODID:-//NONSGML WPForms//NONSGML Sugar Calendar Feeds v3.11.0//EN
X-WR-CALNAME:Barcamp Pforzheim - die Un-Konferenz im Herzen Pforzheims
X-WR-CALDESC:#zusammenhalten Pforzheim
X-WR-TIMEZONE:Europe/Berlin
BEGIN:VTIMEZONE
TZID:Europe/Berlin
BEGIN:DAYLIGHT
TZOFFSETFROM:+0100
TZOFFSETTO:+0200
DTSTART:20250330T010000
TZNAME:CEST
END:DAYLIGHT
END:VTIMEZONE
BEGIN:VTIMEZONE
TZID:Europe/Berlin
BEGIN:DAYLIGHT
TZOFFSETFROM:+0100
TZOFFSETTO:+0200
DTSTART:20250330T010000
TZNAME:CEST
END:DAYLIGHT
END:VTIMEZONE
BEGIN:VEVENT
SUMMARY:Barcamp Pforzheim - die Un-Konferenz im Herzen Pforzheims
DESCRIPTION:Kommt zur offenen Unkonferenz und tauscht euch direkt über 
 die Themen aus\, die euch am Herzen liegen. Trefft interessante Leute un
 d genießt die inspirierende Atmosphäre im EMMA – Kreativzentrum P
 forzheim.\nWie immer bestimmt ihr die Themen. Freut euch auf spannende V
 orträge\, Diskussionen\, kreative Workshops und tolle Networking-Mögli
 chkeiten. Auch dieses Jahr freuen wir wieder auf ein Treffen im EMMA Kre
 ativzentrum Pforzheim.\nLink zu Zeitplan\, Sessions\, Tickets
URL;VALUE=URI:https://www.zusammenhalten-pforzheim.de/events/barcamp-pfo
 rzheim-die-un-konferenz-im-herzen-pforzheims/
UID:urn:uuid:8431ec32-4775-4d7e-b5d9-841e8e9f58f0
STATUS:CONFIRMED
ORGANIZER:
DTSTAMP:20260419T154101Z
DTSTART;VALUE=DATE:20250926
DTEND;VALUE=DATE:20250927
LOCATION:Emma-Jaeger-Str. 20
END:VEVENT
END:VCALENDAR