BEGIN:VCALENDAR
METHOD:PUBLISH
VERSION:2.0
CALSCALE:GREGORIAN
PRODID:-//NONSGML WPForms//NONSGML Sugar Calendar Feeds v3.11.0//EN
X-WR-CALNAME:Arena y Esteras - Eine Bühne für die Jugend der Welt
X-WR-CALDESC:#zusammenhalten Pforzheim
X-WR-TIMEZONE:Europe/Berlin
BEGIN:VTIMEZONE
TZID:Europe/Berlin
BEGIN:DAYLIGHT
TZOFFSETFROM:+0200
TZOFFSETTO:+0200
DTSTART:20250404T040000
TZNAME:CEST
END:DAYLIGHT
END:VTIMEZONE
BEGIN:VTIMEZONE
TZID:Europe/Berlin
BEGIN:DAYLIGHT
TZOFFSETFROM:+0200
TZOFFSETTO:+0200
DTSTART:20250404T040000
TZNAME:CEST
END:DAYLIGHT
END:VTIMEZONE
BEGIN:VEVENT
SUMMARY:Arena y Esteras - Eine Bühne für die Jugend der Welt
DESCRIPTION:Zirkus-Tanz-Theater aus Peru - "Arena y Esteras" zu Gast bei
  der Partnerschaft für Demokratie Pforzheim\n\nSeit über 25 Jahren bri
 ngt die preisgekrönte KinderKulturKarawane Jugendkulturgruppen aus Asie
 n\, Afrika und Lateinamerika nach Deutschland\, ausgezeichnet u.a. von d
 er Deutschen UNESCO-Kommission mit dem Nationalen Preis Bildung für nac
 hhaltige Entwicklung.\n\nDie jungen Künstlerinnen und Künstler der per
 uanischen Gruppe “Arena y Esteras” verbinden in ihren Zirkus-Theater
 inszenierungen soziale und künstlerische Interessen mit politischem Eng
 agement. Das aktuelle Stück erzählt von Ruru\, die sich mit dem Weg de
 r Samen der Pflanzen ihrer Heimat beschäftigt und von dem Reichtum der 
 Natur verzaubert wird.\n\nEs geht um die Themen Interkulturalität und d
 as nachhaltige Leben im Einklang mit der Natur und in der Gemeinschaft\,
  angeknüpft an das Konzept des “Buen Vivir” (das Gute Leben). Durch
  verschiedene Tänze\, Puppentheater\, Jonglage und Akrobatik wird das P
 ublikum auf eine Reise lebendiger Erinnerungen und zur Selbstreflexion e
 ingeladen.\n\nBei Snacks und Getränken findet im Anschluss ein Austausc
 h statt\, zu dem alle\, Groß und Klein\, eingeladen sind.\n\nDer Eintri
 tt ist kostenlos.\n\nVeranstalter: Partnerschaft für Demokratie Pforzhe
 im\, Internationaler Bund e.V.\n\n&nbsp\;\n\n&nbsp\;
URL;VALUE=URI:https://www.zusammenhalten-pforzheim.de/events/arena-y-est
 eras-eine-buehne-fuer-die-jugend-der-welt/
UID:urn:uuid:93801310-3c15-4f7c-a62f-44e1e7f7d635
STATUS:CONFIRMED
ORGANIZER:
DTSTAMP:20260419T130415Z
DTSTART;TZID=Europe/Berlin:20251003T160000
DTEND;TZID=Europe/Berlin:20251003T180000
LOCATION:Kallhardtstr. 31
END:VEVENT
END:VCALENDAR