BEGIN:VCALENDAR
METHOD:PUBLISH
VERSION:2.0
CALSCALE:GREGORIAN
PRODID:-//NONSGML WPForms//NONSGML Sugar Calendar Feeds v3.11.0//EN
X-WR-CALNAME:Antisemitismus in der Sprache
X-WR-CALDESC:#zusammenhalten Pforzheim
X-WR-TIMEZONE:Europe/Berlin
BEGIN:VTIMEZONE
TZID:Europe/Berlin
BEGIN:STANDARD
TZOFFSETFROM:+0200
TZOFFSETTO:+0100
DTSTART:20251026T010000
TZNAME:CET
END:STANDARD
END:VTIMEZONE
BEGIN:VTIMEZONE
TZID:Europe/Berlin
BEGIN:STANDARD
TZOFFSETFROM:+0200
TZOFFSETTO:+0100
DTSTART:20251026T010000
TZNAME:CET
END:STANDARD
END:VTIMEZONE
BEGIN:VEVENT
SUMMARY:Antisemitismus in der Sprache
DESCRIPTION:Antisemitismus begegnen\nDie Zahl antisemitischer Straftaten
  steigt in Deutschland und Europa. Antisemitismus durchzieht viele Berei
 che des gesellschaftlichen Lebens\, offen oder versteckt tritt er uns en
 tgegen. Welche Rolle spielt dabei unsere Sprache? Es sind Beleidigungen 
 und Drohungen\, die ausgestoßen werden. Aber es gibt auch subtilere Äu
 ßerungen. Und wie steht es um Wörter aus dem Jiddischen wie »Mischpok
 e« oder »mauscheln«\, die Bestandteil unserer Alltagssprache sind?\n\
 nReferent: Dr. Ronen Steinke\, Leitender Redakteur im Politikressort der
  Süddeutschen Zeitung\, promovierter Jurist und Lehrbeauftragter an der
  Goethe-Universität Frankfurt am Main.\n\nAnmeldung hier bis 13.1.202
 6
URL;VALUE=URI:https://www.zusammenhalten-pforzheim.de/events/antisemitis
 mus-in-der-sprache/
UID:urn:uuid:29049aaf-3de8-40e3-b00a-41132ca7e498
STATUS:CONFIRMED
ORGANIZER:
DTSTAMP:20260419T232005Z
DTSTART;TZID=Europe/Berlin:20260114T190000
DTEND;TZID=Europe/Berlin:20260114T203000
END:VEVENT
END:VCALENDAR